BEGIN:VCALENDAR
VERSION:2.0
PRODID:-//Shift School Of Photography - ECPv6.15.17.1//NONSGML v1.0//EN
CALSCALE:GREGORIAN
METHOD:PUBLISH
X-WR-CALNAME:Shift School Of Photography
X-ORIGINAL-URL:https://shift-school.com
X-WR-CALDESC:Veranstaltungen für Shift School Of Photography
REFRESH-INTERVAL;VALUE=DURATION:PT1H
X-Robots-Tag:noindex
X-PUBLISHED-TTL:PT1H
BEGIN:VTIMEZONE
TZID:Europe/Helsinki
BEGIN:DAYLIGHT
TZOFFSETFROM:+0200
TZOFFSETTO:+0300
TZNAME:EEST
DTSTART:20240331T010000
END:DAYLIGHT
BEGIN:STANDARD
TZOFFSETFROM:+0300
TZOFFSETTO:+0200
TZNAME:EET
DTSTART:20241027T010000
END:STANDARD
BEGIN:DAYLIGHT
TZOFFSETFROM:+0200
TZOFFSETTO:+0300
TZNAME:EEST
DTSTART:20250330T010000
END:DAYLIGHT
BEGIN:STANDARD
TZOFFSETFROM:+0300
TZOFFSETTO:+0200
TZNAME:EET
DTSTART:20251026T010000
END:STANDARD
BEGIN:DAYLIGHT
TZOFFSETFROM:+0200
TZOFFSETTO:+0300
TZNAME:EEST
DTSTART:20260329T010000
END:DAYLIGHT
BEGIN:STANDARD
TZOFFSETFROM:+0300
TZOFFSETTO:+0200
TZNAME:EET
DTSTART:20261025T010000
END:STANDARD
BEGIN:DAYLIGHT
TZOFFSETFROM:+0200
TZOFFSETTO:+0300
TZNAME:EEST
DTSTART:20270328T010000
END:DAYLIGHT
BEGIN:STANDARD
TZOFFSETFROM:+0300
TZOFFSETTO:+0200
TZNAME:EET
DTSTART:20271031T010000
END:STANDARD
END:VTIMEZONE
BEGIN:VEVENT
DTSTART;VALUE=DATE:20250101
DTEND;VALUE=DATE:20270101
DTSTAMP:20260421T014051
CREATED:20250829T224731Z
LAST-MODIFIED:20251210T103301Z
UID:2498-1735689600-1798761599@shift-school.com
SUMMARY:Einzelberatung / Mappenschau / Portfolioreview
DESCRIPTION:Sie wünschen eine Rückmeldung zu ihrer Arbeit mit Fotografie? Sie bitten um meine fachliche Einschätzung\, welche Fähigkeiten und Fertigkeiten Ihnen für ihre Progression in der Arbeit mit noch Fotografie fehlen? Sie bitten um eine kluge Herangehensweise zur Lösung eines aktuellen Ziels\, was sie in der Fotografie planen oder erreichen möchten. \nEine Portfolio Review (Mappenschau) mit Kristin Dittrich kann wichtige Prozesse in der eigenen Entwicklung anstoßen und voranbringen. Ein ehrliches Feedback soll ermutigen\, sich in seinem eigenen Können noch weiter zu steigern und sich seiner Fähigkeiten noch weiter bewusst zu werden. \nThemen\, Stil\, kreative Identität und die eigene Vision ordnet sie in den weltweit bestehenden Kunstkontext ein. Sie fördert Können und hilft dabei\, ein komplexes Projekt strukturiert weiterzuentwickeln oder in die Öffentlichkeit zu bringen. Sie gibt Anstösse und Ideen\, realistische Ziele zu formulieren. Sie stellt Kontakte und Verbindungen zu Galeristen\, Kuratoren oder Verlegern her\, wo sie eine gemeinsame Qualität und Mehrwert für beide Seiten erkennen kann. \nDie Dauer beträgt 75 Minuten und es gibt die exklusive Möglichkeit die Mappenschau auch online via Zoom durchzuführen. Dazu muss das ausgewählte Portfolio bis einen Tag vor dem Termin der Shift-School zugänglich gemacht werden. Sollten sie sich im Anschluss der Mappenberatung für ein Mentoring bei Kristin Dittrich entscheiden\, werden ihnen die Kosten gutgeschrieben. \nSie bereiten eine wichtige Ausstellung oder ein Buch vor\, wollen einen Wettbewerb gewinnen o. möchten sich ein Portfolio mit intelligentem Spannungsbogen erstellen lassen\, dann buchen sie mehrere Arbeitsstunden.\nErfragen sie bitte unkompliziert vor ihrer Buchung\, wieviele Arbeitsstunden bei Frau Dittrich dafür nötig sind: kdittrich@shift-school.com\n\nKurssprache: Deutsch\, Englisch\, Französisch \n\nFrau Dittrich bei der Arbeit: www.kristindittrich.de \n\n\n 
URL:https://shift-school.com/event/einzelberatung-mappenschau/
CATEGORIES:Einzelmentoring
ATTACH;FMTTYPE=image/jpeg:https://shift-school.com/wp-content/uploads/2022/11/IMG_20190417_123606_resized_20200401_100747738.jpg
END:VEVENT
BEGIN:VEVENT
DTSTART;VALUE=DATE:20250901
DTEND;VALUE=DATE:20270101
DTSTAMP:20260421T014051
CREATED:20250829T223159Z
LAST-MODIFIED:20251213T214741Z
UID:2486-1756684800-1798761599@shift-school.com
SUMMARY:10 x Einzelunterricht Mentoring Fotografie bei Kristin Dittrich
DESCRIPTION:Stellen sie ihre Themen selbst zusammen + nennen sie ihre eigenen Zielsetzung in der Fotografie. \nIn diesem einzigartigen Mentoring-Programm erhalten Teilnehmer Einzelunterricht durch Kristin Dittrich\, Expertin für  Fotografie der Gegenwart nach dem Modell Pariser Schule (Sorbonne) und 25 Jahre Praxis in der Kunstwelt Fotografie. Im Dialog zwischen Teilnehmer und Spezialistin\, die seit Jahren erfolgreich visuell arbeitende Kreative im Einzelunterrichrt  begleitet\, soll sich nun ein vertiefender\, persöhnlicher Dialog zu Bildern und Langzeitprojekten verdichten. \nKristin Dittrich versteht ihre Aufgabe als begleitende Unterstützerin im schöpferischen Prozess. Der Teilnehmer erhält auf diese Art maximale Förderung und Unterstützung\, sowie die ungeteilte Aufmerksamkeit der Mentorin. Wer ein Thema mitbringt\, trage es vor und lasse es in einem geschützten Raum wachsen. Wer kein Thema mitbringt und sein Lebensthema in der Fotografie finden möchte\, sollte sich vor den Übungen und Fragestellungen in Kristin Dittrichs Unterricht nicht scheuen. \nKristin Dittrich wird Ihnen zudem dabei helfen\, die eigene Arbeit im Rahmen internationaler fotografischer Entwicklungen zu verorten. Da das Verfahren dialogisch aufgebaut ist\, können zudem individuelle Schwerpunktsetzungen erfolgen. Der Unterricht ist wie ein Zopf geflochten: Ein Strang liefert neues Wissen und Erkenntnis\, im anderen Strang erfolgt die Entwicklung eines Langzeitprojekts. \nLernziele /Unterrichtsübersicht \nDer Kurs umfasst 10 Unterrichtseinheiten zu je 75min und findet in individueller Terminabsprache statt. Sie erhalten Arbeitsblätter\, Aufgaben\, Bücher und Texte zwischen den Terminen. Während des Unterrichts setzen Sie sich mit zahlreichen Bildbeispielen bedeutender Fotografen auseinander und bekommen ein erstes Gespür für Trends und Entwicklungen des Mediums Fotografie in der internationalen Kunstwelt. \nWorüber sprechen wir? \n\nWachsen an Vorbildern: Welche Fotografen haben die Kunstwelt in den letzten 10 Jahren weltweit beeinflusst?\nArbeit an der eigenen Biografie: Zusammenhänge zwischen Biografie und Themenfindung.\nWie bestimmt man eine hohe künstlerische Qualität in Bildern? Mit Übungen.\nVom Fotografen zum Autor. Welche Themen\, Erfahrungen\, Denk-und Sichtweisen machen mich aus und wie lassen sich diese mittels Fotografie erzählen und übersetzen?\nWas steckt in einer inhaltlich komplexen Fotografie- Das Bildschichten Modell nach Kristin Dittrich. Entwicklung eigener Themen & Herangehensweisen für Langzeitprojekte in der eigenen\, fotografischen Arbeit.\nÜber Fotografie schreiben.//Vom Artist Statement zur Bildkritik – Methoden und Techniken. Übungen zum Thema Erzählen in der Fotografie.\nÜberführung der Erkenntnisse in eine eigene Struktur\, in ein fertiges Ergebnis wie Buch\, Portfolio\, Website.\nWie schaffe ich mir ein belastbares Netzwerk in der Branche? Kunstszene Fotografie Fotostrukturen\, Blogs\, Quellen und Institutionen national und international.  Abschlusstest. Zertifikat.\n\nInformationen zum Fotografie Einzelunterricht bei Kristin Dittrich unter\noffice@shift-school.com. Vereinbaren sie ein kostenfreies Vorgespräch.\n \nZusatzthemen ( Wählen sie 3 aus): \n\nWie plane ich ein Langzeitprojekt in der Fotografie?\nDie Psychologie der Fotografie\nEinführung Internationale Geschichte der Fotografie der Gegenwart. Hat jedes Land eine eigene Bildsprache in der Fotografie? 15 Länder\, ihre landeseigene Fotografie Bildkultur und wichtigsten Fotokünstlern. \nDas Wolfgang Tillmans Prinzip – Wie versteht man seine Bilder? \nSchreiben über Fotografie am Beispiel von Robert Frank \nFotografisches Erzählen nach Wolfgang Tillmans\, Timm Rautert und Robert Frank\nSprechen über Fotografie – Rhetorik Arten Wie formuliere eine spannende Eröffnungsrede?\nFotografie und Demenz – Gedächtnistraining Erlernen von Übungen für Angehörige und Betroffene  \nInternationale Fototheorie von Barthes bis Sonntag und\nSzarkowski anhand ihrer Kernsätze diskutiert \nPorträt und Würde in der zeitgenössischen Fotografie \nHautbilder Brückenbilder Notizbilder – Kleine Kuratorische Übungen mit Fotoarbeiten aus der Schweiz und Japan. Wer möchte\, mit eigenen Bildern. Kursebeschreibungen\n\nKursbeschreibungen \n1. Wie finde ich mein Thema? – Eigene fotografische Langzeitprojekte entwickeln . Im Dialog zwischen Teilnehmern und Dozentin arbeiten wir an Bildfindungsprozessen\, die sich zu thematischen Langzeitprojekten verdichten. Kristin Dittrich versteht ihre Aufgabe als begleitende Unterstützung im schöpferischen Prozess\, vor allem der Übertragung einer im eigenen Leben gemachten Erfahrungen in Fotografie. Wer ein Thema mitbringt\, trage es vor und lasse es in einem geschützten Raum wachsen. Wer kein Thema mitbringt und sein Thema in der Fotografie finden möchte\, sollte sich vor fotografischen Übungen und zu beantwortenden Fragestellungen in Frau Dittrichs Unterricht nicht scheuen. Kristin Dittrich wird dabei helfen\, die eigene Arbeit im Rahmen internationaler fotografischer Entwicklungen zu verorten. \n2. Psychologie und Fotografie – Wie Bilder gute entstehen!  Warum fotografieren wir? Wie ticken kluge Fotografen? Was erwartet ein kluger Betrachter von einer Fotografie? Welche Fähigkeiten und Eigenschaften benötigen wir um unsere Beobachtungen\, seine Emotionen\, unser Verständnis von Welt in einem einzigen Bild festzuhalten\, das in seiner Vielschichtigkeit aus philosophischen\, kulturellen\, ethischen\, biografischen\, soziologischen Verweisen\, das sogenannte „vielschichtige“ Bild ergibt? Was ist ein komplexes Bild? Der Kurs erläutert Persöhnlichkeitsmuster Machern und Betrachtern in der Fotografie und zeigt beeindruckende Beispiele aus der Geschichte der Fotografie dazu. U.a. mit Jenny Rova\, Tobias Kruse\, Ute und Werner Mahler\, Virginie Rebetez\, Isiuchi Miyako. 1. Termin: Warum fotografieren wir? Zeigen\, Erzählen\, Erinnern\,  Forschen\, Protest. 2. Termin Persönlichkeitsstrukturen visueller Menschen: Die Gabe des stillen Beobachters. 3. Termin Porträt und Würde: Wie nähere ich mich einem Menschen (mit der Kamera)?    \n3. Einführung in die internationale Geschichte der Fotografie der Gegenwart nach Ländern. Jedes Land hat visuelle Eigenheiten in der Fotografie? Kristin Dittrich stellt euch Länder\, ihre Eigenheiten in der Fotografie und seine wichtigsten Künstler vor.  Zu jedem Termin lernt ihr ein sehr hoch gefiltertes Portfolio zur Kunstszene Fotografie eines Landes kennen und können euerWissen zu den Entstehungsprozessen von Fotografie und ihrer Autoren bereichern. Bitte wählt eure Top 3 Länder und schickt mir eure 3 Favoriten zu:  Südafrika // USA // Schweiz // Schweden // Finnland // Norwegen // Deutschland // Tschechien // Slowakei // Slowenien // Polen // Russland/ Japan // Indien // Großbritannien // Holland // Belgien.   \n4. Das Phänomen Wolfgang Tillmans. Wer den deutschen Künstler Wolfgang Tillmanns (geb.1968) versteht\, versteht auch die gesamte Fotografie der Gegenwart. Kristin Dittrich geht seit vielen Jahren dem Wolfgang Tillmans Phänomen auf den Grund. Sie hat spannende Methoden und Materialien entwickelt\, mit denen ihr den Tillmans Code ab sofort de-codieren könnt.\nEin umfangreiches Bildportfolio von Tillmans begleitet den Kurs\, um euch Tillmans inhaltlich reiches\, assoziatives Arbeiten mit Bildern nahezubringen. \n5. Schreiben über Fotografie am Beispiel von Robert Frank. Dieser Basiskurs s Seminar ist ein Plädoyer an die Zukunft und die Bedeutung der Erstellung von Texten über Fotografien\, Bücher und Ausstellungen. Das Verstehen und Nutzen einer exzellenten Sprache für Bilder steht im Vordergrund dieses Basiskurses mit Kristin Dittrich. Sie setzt sich seit Jahren leidenschaftlich dafür ein\, dass das komplexe Bilder in ihrer Qualität gesehen und in die Tiefe verstanden werden. Nach Kristin Dittrich hat im 20. Jahrhundert kein anderer Fotograf sprachlich über den inhaltlichen Anspruch eines Bildes reflektiert wie der amerikanische Fotograf\, Schweizer Abstammung\, Robert Frank (1924-1919). Im Basiskurs lernen wir Robert Frank und seine komplexe\, sanfte und hoch interessante Sprache über Fotografie kennen. \n6. Sprechen über Fotografie – Rhetorik Arten Wie formuliere eine spannende Eröffnungsrede? Wann immer wir Fotografie präsentieren\, müssen wir einen Balanceakt überwinden: Kunst darf niemals belehren.  Die Sprache der Fotografie ist eine hohe Kunst. In diesem Kurs lernen zeige ich euch\, eine spannende Eröffnungsrede für Austellungen zu entwickeln und zu halten.  \n7. Fotografie und Demenz. Es kommt auf jeden von uns zu: Mit zunehmenden Alter lässt unser Gedächtnis nach. Es baut immer mehr ab\, bis die Betroffenen die Diagnose gestellt bekommen: Alzheimer\, Demenz oder Parkinson. Seit gerade einmal 10 Jahren ist medizinisch wissenschaftlich erforscht\, dass sich Gedächtniszellen immer wieder neu bilden\, solange wir sie sinnvoll aktivieren. Wissenschaftler aus den USA haben herausgefunden das gerade unser fotografisch visuelles Gedächtnis im Alter besser aktiviert werden kann als alle anderen Gedächtnisareale. Demenz hat also nichts mit dem Alter zu tun. Erst bei der Diagnose Parkinson können sich Gedächtniszellen nicht mehr bilden. Durch Wissen und kognitive Übungen mit fotografischen Übungen lässt sich sehr viel Gedächtnisqualität erhalten und schärfen. Wie aktivieren wir Menschen mit Demenz\, Alzheimer oder Parkinson? Wie können wir unserer Gedächtnis oder das einer anderen Person visuell über Fotografie trainieren\, sodas sich kontinuierlich Gedächtniszellen im Gehirn nachbilden? In diesem Kurs eröffne ich eine neue Dimension für mein Arbeiten mit Fotografie mit Menschen deren Gedächtnisleistung stark abnimmt.  Seit Jahren trainiere ich Menschen in ihrem privaten Umfeld\, für die ich über 100 Übungen mit Fotografie entwickelt habe. 15 Basisübungen stelle ich vor. Dieser Kurs richtet sich an Interessierte zum Thema. Betrachtet diesen Kurs als Einladung auf eine Reise in eine neue spannende Welt in unser Gehirn.  \n8. Internationale Fototheorie von Barthes bis Sonntag und Szarkowski anhand ihrer Kernsätze diskutiert. Zum Aktuellen Verständnis von Fototheorie durch ihre Kernsätze. Jeder\, der Bilder macht oder mit Bildern arbeitet – ob als Fotograf\, Kurator oder Lehrender – wird geradezu zwangsläufig mit diesen Fragen konfrontiert: Warum schaffen wir Bilder und für wen? Wie entsteht eine Kultur der Bilder? Welche Bedeutung haben Bilder für unsere Existenz? Eine schier unendliche Fülle von Texten widmet sich dem fotografischen Bild auf all seinen Bedeutungsebenen. Kristin Dittrich\, die an der Sorbonne studierte\, unterrichtet diesen Theorie Kurs nach dem Pariser Modell: Kerninhalte von Fototheorie werden über Leitsätze vorgestellt und diskutiert. Der Kurs widmet sich dabei den Texten und Konzepten von John Szarkowski\, Marshall McLuhan\, Walker Evans\, Susan Sontag\, Roland Barthes\, Klaus Honnef\, Anna Farova\, John Berger\, Timm Rautert\, Charlotte Cotton uva. Das Verstehen aktueller und einflussreicher Theorien führender Intellektueller\, Kuratoren\, Theoretiker und Bildwissenschaftler sowie deren komprimierte\, dichte Vermittlung stehen im Vordergrund.  \n9. Porträt und Würde in der zeitgenössischen Fotografie. Jeder der mit Menschen in der Fotografie zusammentrifft um sie zu fotografieren oder als auszustellen\, über sie zu schreiben oder über eine Porträtaufnahme zu sprechen kommt mit dem Würde Begriff in Berührung. Der Kurs lotet mit euch den Begriff der Würde philosophisch \, biografisch und sprachlich aus. In Würde leben\, heisst in Harmonie leben. Wichtige Kernbegriffe\, die mit Würde in Verbindung stehen werden definiert und erläutert. Die Auseinandersetzung mit Porträt und Würde ist essentiell in der Fotografie.  Mit Arbeiten von den wichtigsten zeitgenössischen Porträtfotografen unserer Zeit u.a. Roger Ballen\, Ingar Krauss\, Jakob Aue Sobol\, Göran Gnaudschun\, Kajsa Gullberg uva.    \n10. Hautbilder.Brückenbilder. Notizbilder – Kleine Kuratorische Übungen mit Fotoarbeiten aus der Schweiz und Japan. Wer möchte\, mit eigenen Bildern.  Das wir Bilder wahrnehmen\, lesen und im Gehirn speichern – dafür müssen thematisch\, räumlich\, so wie organisatorisch eine Vielzahl von Voraussetzungen geschaffen werden\, die wir als „Kuratieren“ bezeichnen.  \nWer anstrebt \, dass (seine) Bilder von anderen gelesen und verstanden werden\, lernt in meinen Curating Kursen\, einen Spannungsbogen in der Auswahl und Präsentation von Fotografie zu schaffen. In diesem Kurse lernen wir Hautbilder\, Brückenbilder und Notizbilder zu unterscheiden und üben diese spezielle Technik anhand von Bildbeispielen zusammen.  \n\n\n\n\n\n\n\n\nBlick in die Tiefe! An de Shift School geht es vor allem um die inhaltiche visuelle Seite von Fotografie in der Bildenden Kunst. \n\n\n\n\n\n\n\nMit Kristin Dittrich. Sie unterrichtet seit 2015 an der Shift School das fotografische Gedächtnis von komplexen Bildern und ihrer Bedeutung in verschiedenen Ländern und Kulturen. 
URL:https://shift-school.com/event/10-x-einzelunterricht-mentoring-fotografie-bei-kristin-dittrich/
LOCATION:Zoom
CATEGORIES:Einzelmentoring
ATTACH;FMTTYPE=image/jpeg:https://shift-school.com/wp-content/uploads/2025/02/image002.jpg
END:VEVENT
BEGIN:VEVENT
DTSTART;TZID=Europe/Helsinki:20260413T201500
DTEND;TZID=Europe/Helsinki:20260511T214500
DTSTAMP:20260421T014051
CREATED:20260219T165138Z
LAST-MODIFIED:20260412T160150Z
UID:3562-1776111300-1778535900@shift-school.com
SUMMARY:Neue Fotografie Vorlesungen: Einführung in die internationale Geschichte der Fotografie der Gegenwart -  Welche Künstler? Welche Länder? Welche Themen? mit Kristin Dittrich
DESCRIPTION:Wer sind aktuell die wichtigsten Fotografiekünstler pro Land? \nFotografieWissen: Einführung in die internationale Geschichte der Fotografie der Gegenwart – Neue Fotografie nach Ländern Vorlesungen an der Shift School mit Kristin Dittrich: \nWer gehört zu den wichtigsten\, zeitgenössischen Foto-Künstlern in einem Land\, einer Kultur\, die man heute kennen sollte? Welche Länder senden mit ihren Fotokünstlern die derzeit stärksten Impulse in der Fotografie? Wie unterscheiden sich künstlerische Bildstile und Bildinhalte in der Fotografie in einzeln Ländern? Zu jedem Termin lernt Ihr 6-8 der wichtigsten\, aktuellen Fotokünstler eines Landes kennen\, mit der These ob es fotografische Themen gibt\, die  die einzelnen Ländern zugeordnet werden können. Ihr  seht ein sehr hoch gefiltertes Portfolio zur Kunstszene Fotografie pro Land.  Das Portfolio ist aus der sehr detaillierten Beobachtung und Einschätzung der weltweiten Fotografieentwicklungen entstanden. So könnt ihr euer Wissen zu den Entstehungsprozesse von Fotografie und ihrer Autoren nach Ländern bereichern. \nInternationale Entwicklungen in der Fotografie der Gegenwart nach Ländern und ihren wichtigsten Fotografen mit Kristin Dittrich \nTermine\, Uhrzeit\, Preis: 4x Montags 20.15-21.45 Uhr\, 129€ \n13. April 2026\, 20.15-21.45 Uhr Tschechien\, Ungarn\, Ukraine \n20. April 2026\, 20.15-21.45 Uhr Kanada\, USA \n27. April 2026\, 20.15-21.45 Uhr Japan\, Korea\, Taiwan \n11. Mai 2026\, 20.15-21.45 Uhr\, Frankreich \nWer an einem Termin verhindert ist erhält eine Aufzeichnung. \nIhr könnt die Vorträge auch zum Einzelpreis von 49€ hier buchen: \n13.4. Neue Fotografie Ländervorlesung Tschechien/ Ungarn/ Ukraine -Einführung in die internationale Geschichte der Fotografie der Gegenwart –  Welche Künstler? Welche Länder? Welche Themen? mit Kristin Dittrich \n \nAbb. Valie Export\, Denis Darzacq
URL:https://shift-school.com/event/fotografie-laender-namen-soziologie/
LOCATION:Zoom
CATEGORIES:Fotografie Masterclasses
ATTACH;FMTTYPE=image/jpeg:https://shift-school.com/wp-content/uploads/2020/04/phpThumb_generated_thumbnail.jpg
END:VEVENT
BEGIN:VEVENT
DTSTART;VALUE=DATE:20260421
DTEND;VALUE=DATE:20260427
DTSTAMP:20260421T014051
CREATED:20251213T221423Z
LAST-MODIFIED:20251230T103018Z
UID:3518-1776729600-1777247999@shift-school.com
SUMMARY:Fotografie Bildungsreise Kunstszene  New York zur wichtigen Fotografie Kunstmesse AIPAD 21.4.-26.4.26 mit Kristin Dittrich
DESCRIPTION:  \n\n\n\n\n\nWir reisen nach New York!\nFotografie Bildungsreise  + AIPAD\n12 Jahre Shift School 2026\n\n\n\n\n\n\n\n\n\n\n\n\nMein Fotografie Unterricht feiert  12 jährigen Geburtstag seit der Gründung 2014. Zum Jubiläum führe ich eine Bildungsreise in die Kunstszene Fotografie in New York durch.  Wir besuchen auch auf die Kunstmesse AIPAD\, das ist die Paris Photo von Amerika. Die Reise findet vom 21.-26.4.2024 statt. Nutzt den Weihnachtstarif 990€ statt 1499€ und meldet euch jetzt an. \nAblaufplan unserer New York Reise \n12 Jahre Shift School – Fotografie der Gegenwart \n21.04 (Dienstag) \n12:00-18:00 Uhr – Individuelle Anreise\, Check in Hotel Treffen Einführung Wie ist New York als Kunststadt Fotografie aufgeteilt \n22.04 (Mittwoch)\n10 -13 Uhr Warum Up\, Gemeinsames Kennenlernen des Fotografiska Fotografiezentrum in New York. Kuratorisches Konzept und aktuelle Tendenzen in der Amerikanischen Fotografie. \n13-14:30 – Mittagspause\n15:00 -18:00 Uhr – Kennenlernen der wichtigsten Thesen der Kunstkritikerin Susan Sontags „Warum fotografieren wir?“ Geführte Besuche vom ICP International Center of Photography und Christies New York.  \n23.04 (Donnerstag)\n10-13 Uhr Welche Fotokünstler arbeiten in New York? 10-13 Uhr Besuch vom MOMA in New York\, Kennenlernen der kuratorischen Techniken für Ausstellungen die für Fotografie am Moma verwendet und eingesetzt werden. Kennenlernen besonderer Highlights der Fotografie Sammlungen am MOMA. \n13-14:30 Uhr – Mittagspause\, gemeinsamer Spaziergang auf der Stillgelegten Subway Linie High Line quer durch die Innenstadt von New York\, Besuch des neuen Aussichtsturms Vessel in New York. \n15:00 -18:00 Gemeinsames Kennenlernen des Witney Museum für Amerikanische Kunst der Gegenwart mit Witney Biennale\, Festival aktueller Kunst in den USA\, Unser Fokus: Fotografie in den USA\,  Ausklang des Tages an der Freiheitsstatue State of Liberty. \n24.04. (Freitag)  \n10-18 Uhr Gemeinsamer Besuch der Kunstmesse AIPAD\, Führung durch die Messe\, Kennenlernen des Amerikanischen Kunstmarkts für Fotografie\, Gespräche mit Teilnehmern der Messe Galeristen\, Künstlern\, Kuratoren. \n25.04. (Samstag ) Tag zur freien Gestaltung\, Fotografieren\, Shopping. Abschluss Gemeinsames Abendessen. \n26.4. (Sonntag) Rückreise 
URL:https://shift-school.com/event/zu-weihnachten-verschenken-fotografie-bildungsreise-kunstszene-new-york-zur-wichtigen-fotografie-kunstmesse-aipad-21-4-6-4-26-mit-kristin-dittrich/
LOCATION:New York
CATEGORIES:Bildungsreisen
ATTACH;FMTTYPE=image/jpeg:https://shift-school.com/wp-content/uploads/2019/01/IMG-20220518-WA0020.jpg
END:VEVENT
END:VCALENDAR